BEGIN:VCALENDAR
VERSION:2.0
PRODID:-//St. Francis Xavier School - ECPv6.15.20//NONSGML v1.0//EN
CALSCALE:GREGORIAN
METHOD:PUBLISH
X-ORIGINAL-URL:http://wordpress.petoskeysfxschool.org
X-WR-CALDESC:Events for St. Francis Xavier School
REFRESH-INTERVAL;VALUE=DURATION:PT1H
X-Robots-Tag:noindex
X-PUBLISHED-TTL:PT1H
BEGIN:VTIMEZONE
TZID:America/Detroit
BEGIN:DAYLIGHT
TZOFFSETFROM:-0500
TZOFFSETTO:-0400
TZNAME:EDT
DTSTART:20240310T070000
END:DAYLIGHT
BEGIN:STANDARD
TZOFFSETFROM:-0400
TZOFFSETTO:-0500
TZNAME:EST
DTSTART:20241103T060000
END:STANDARD
BEGIN:DAYLIGHT
TZOFFSETFROM:-0500
TZOFFSETTO:-0400
TZNAME:EDT
DTSTART:20250309T070000
END:DAYLIGHT
BEGIN:STANDARD
TZOFFSETFROM:-0400
TZOFFSETTO:-0500
TZNAME:EST
DTSTART:20251102T060000
END:STANDARD
BEGIN:DAYLIGHT
TZOFFSETFROM:-0500
TZOFFSETTO:-0400
TZNAME:EDT
DTSTART:20260308T070000
END:DAYLIGHT
BEGIN:STANDARD
TZOFFSETFROM:-0400
TZOFFSETTO:-0500
TZNAME:EST
DTSTART:20261101T060000
END:STANDARD
END:VTIMEZONE
BEGIN:VEVENT
DTSTART;TZID=America/Detroit:20250531T173000
DTEND;TZID=America/Detroit:20250531T193000
DTSTAMP:20260422T040349
CREATED:20250510T134535Z
LAST-MODIFIED:20250510T134535Z
UID:271-1748712600-1748719800@wordpress.petoskeysfxschool.org
SUMMARY:Gala Auction Event
DESCRIPTION:We are thrilled to announce that the 34th Annual Gala will be at GYPSY FARMS! This will be a wonderful evening with a LIVE auction\, cocktails\, dinner\, and dancing. Our theme is nautical – dressing to the theme is totally optional! Your sponsorship funds will go directly to the school and each sponsorship level includes a specific number of tickets to the St Francis Xavier School Gala at Gypsy Farms on May 31st\, 2025! Thank you for your continuous support of St Francis Xavier School.
URL:http://wordpress.petoskeysfxschool.org/event/gala-auction-event/
LOCATION:Gypsy Farms\, 5251 Charlevoix Ave\, Petoskey\, 49770\, United States
END:VEVENT
BEGIN:VEVENT
DTSTART;TZID=America/Detroit:20250531T173000
DTEND;TZID=America/Detroit:20250531T210000
DTSTAMP:20260422T040349
CREATED:20250522T213034Z
LAST-MODIFIED:20250522T215612Z
UID:408-1748712600-1748725200@wordpress.petoskeysfxschool.org
SUMMARY:Gala Auction @ Gypsy Farm
DESCRIPTION:
URL:http://wordpress.petoskeysfxschool.org/event/gala-auction-gypsy-farm/
LOCATION:Gypsy Farms\, 5251 Charlevoix Ave\, Petoskey\, 49770\, United States
END:VEVENT
END:VCALENDAR