BEGIN:VCALENDAR
VERSION:2.0
PRODID:-//St. Francis Xavier School - ECPv6.15.20//NONSGML v1.0//EN
CALSCALE:GREGORIAN
METHOD:PUBLISH
X-WR-CALNAME:St. Francis Xavier School
X-ORIGINAL-URL:http://wordpress.petoskeysfxschool.org
X-WR-CALDESC:Events for St. Francis Xavier School
REFRESH-INTERVAL;VALUE=DURATION:PT1H
X-Robots-Tag:noindex
X-PUBLISHED-TTL:PT1H
BEGIN:VTIMEZONE
TZID:America/Detroit
BEGIN:DAYLIGHT
TZOFFSETFROM:-0500
TZOFFSETTO:-0400
TZNAME:EDT
DTSTART:20240310T070000
END:DAYLIGHT
BEGIN:STANDARD
TZOFFSETFROM:-0400
TZOFFSETTO:-0500
TZNAME:EST
DTSTART:20241103T060000
END:STANDARD
BEGIN:DAYLIGHT
TZOFFSETFROM:-0500
TZOFFSETTO:-0400
TZNAME:EDT
DTSTART:20250309T070000
END:DAYLIGHT
BEGIN:STANDARD
TZOFFSETFROM:-0400
TZOFFSETTO:-0500
TZNAME:EST
DTSTART:20251102T060000
END:STANDARD
BEGIN:DAYLIGHT
TZOFFSETFROM:-0500
TZOFFSETTO:-0400
TZNAME:EDT
DTSTART:20260308T070000
END:DAYLIGHT
BEGIN:STANDARD
TZOFFSETFROM:-0400
TZOFFSETTO:-0500
TZNAME:EST
DTSTART:20261101T060000
END:STANDARD
BEGIN:DAYLIGHT
TZOFFSETFROM:-0500
TZOFFSETTO:-0400
TZNAME:EDT
DTSTART:20270314T070000
END:DAYLIGHT
BEGIN:STANDARD
TZOFFSETFROM:-0400
TZOFFSETTO:-0500
TZNAME:EST
DTSTART:20271107T060000
END:STANDARD
END:VTIMEZONE
BEGIN:VEVENT
DTSTART;VALUE=DATE:20260326
DTEND;VALUE=DATE:20260327
DTSTAMP:20260421T145251
CREATED:20250811T233228Z
LAST-MODIFIED:20250811T233228Z
UID:494-1774483200-1774569599@wordpress.petoskeysfxschool.org
SUMMARY:End of Third Quarter
DESCRIPTION:
URL:http://wordpress.petoskeysfxschool.org/event/end-of-third-quarter/
END:VEVENT
BEGIN:VEVENT
DTSTART;TZID=America/Detroit:20260315T090000
DTEND;TZID=America/Detroit:20260315T120000
DTSTAMP:20260421T145251
CREATED:20250829T210343Z
LAST-MODIFIED:20250829T210343Z
UID:533-1773565200-1773576000@wordpress.petoskeysfxschool.org
SUMMARY:Pancake Breakfast
DESCRIPTION:
URL:http://wordpress.petoskeysfxschool.org/event/pancake-breakfast-7/
END:VEVENT
BEGIN:VEVENT
DTSTART;TZID=America/Detroit:20260313T075500
DTEND;TZID=America/Detroit:20260313T114000
DTSTAMP:20260421T145251
CREATED:20250811T233149Z
LAST-MODIFIED:20250811T233149Z
UID:492-1773388500-1773402000@wordpress.petoskeysfxschool.org
SUMMARY:1/2 Day of School
DESCRIPTION:
URL:http://wordpress.petoskeysfxschool.org/event/1-2-day-of-school-3/
END:VEVENT
BEGIN:VEVENT
DTSTART;VALUE=DATE:20260216
DTEND;VALUE=DATE:20260217
DTSTAMP:20260421T145251
CREATED:20250811T233057Z
LAST-MODIFIED:20250811T233057Z
UID:490-1771200000-1771286399@wordpress.petoskeysfxschool.org
SUMMARY:No School--Mid-Winter Break
DESCRIPTION:
URL:http://wordpress.petoskeysfxschool.org/event/no-school-mid-winter-break/
END:VEVENT
BEGIN:VEVENT
DTSTART;TZID=America/Detroit:20260215T090000
DTEND;TZID=America/Detroit:20260215T120000
DTSTAMP:20260421T145251
CREATED:20250829T210313Z
LAST-MODIFIED:20250829T210313Z
UID:531-1771146000-1771156800@wordpress.petoskeysfxschool.org
SUMMARY:Pancake Breakfast
DESCRIPTION:
URL:http://wordpress.petoskeysfxschool.org/event/pancake-breakfast-6/
END:VEVENT
BEGIN:VEVENT
DTSTART;TZID=America/Detroit:20260213T075500
DTEND;TZID=America/Detroit:20260213T114000
DTSTAMP:20260421T145251
CREATED:20250811T233024Z
LAST-MODIFIED:20250811T233024Z
UID:488-1770969300-1770982800@wordpress.petoskeysfxschool.org
SUMMARY:1/2 Day of School
DESCRIPTION:
URL:http://wordpress.petoskeysfxschool.org/event/1-2-day-of-school-2/
END:VEVENT
BEGIN:VEVENT
DTSTART;TZID=America/Detroit:20260123T114000
DTEND;TZID=America/Detroit:20260123T150500
DTSTAMP:20260421T145251
CREATED:20250811T232910Z
LAST-MODIFIED:20250811T232910Z
UID:484-1769168400-1769180700@wordpress.petoskeysfxschool.org
SUMMARY:P.D. for Staff
DESCRIPTION:
URL:http://wordpress.petoskeysfxschool.org/event/p-d-for-staff-4/
END:VEVENT
BEGIN:VEVENT
DTSTART;TZID=America/Detroit:20260123T075500
DTEND;TZID=America/Detroit:20260123T114000
DTSTAMP:20260421T145251
CREATED:20250811T232831Z
LAST-MODIFIED:20250811T232831Z
UID:482-1769154900-1769168400@wordpress.petoskeysfxschool.org
SUMMARY:1/2 Day of School
DESCRIPTION:
URL:http://wordpress.petoskeysfxschool.org/event/1-2-day-of-school/
END:VEVENT
BEGIN:VEVENT
DTSTART;VALUE=DATE:20260123
DTEND;VALUE=DATE:20260124
DTSTAMP:20260421T145251
CREATED:20250811T232935Z
LAST-MODIFIED:20250811T232935Z
UID:486-1769126400-1769212799@wordpress.petoskeysfxschool.org
SUMMARY:End of Second Quarter/First Semester
DESCRIPTION:
URL:http://wordpress.petoskeysfxschool.org/event/end-of-second-quarter-first-semester/
END:VEVENT
BEGIN:VEVENT
DTSTART;VALUE=DATE:20260119
DTEND;VALUE=DATE:20260120
DTSTAMP:20260421T145251
CREATED:20250811T232749Z
LAST-MODIFIED:20250811T232749Z
UID:480-1768780800-1768867199@wordpress.petoskeysfxschool.org
SUMMARY:No School for Students/P.D. for Staff
DESCRIPTION:
URL:http://wordpress.petoskeysfxschool.org/event/no-school-for-students-p-d-for-staff-2/
END:VEVENT
BEGIN:VEVENT
DTSTART;TZID=America/Detroit:20260118T090000
DTEND;TZID=America/Detroit:20260118T120000
DTSTAMP:20260421T145251
CREATED:20250829T210201Z
LAST-MODIFIED:20250829T210201Z
UID:527-1768726800-1768737600@wordpress.petoskeysfxschool.org
SUMMARY:Pancake Breakfast
DESCRIPTION:
URL:http://wordpress.petoskeysfxschool.org/event/pancake-breakfast-4/
END:VEVENT
BEGIN:VEVENT
DTSTART;VALUE=DATE:20251222
DTEND;VALUE=DATE:20260103
DTSTAMP:20260421T145251
CREATED:20250811T232550Z
LAST-MODIFIED:20250811T232550Z
UID:478-1766361600-1767398399@wordpress.petoskeysfxschool.org
SUMMARY:No School--Christmas Break
DESCRIPTION:
URL:http://wordpress.petoskeysfxschool.org/event/no-school-christmas-break/
END:VEVENT
BEGIN:VEVENT
DTSTART;TZID=America/Detroit:20251221T090000
DTEND;TZID=America/Detroit:20251221T120000
DTSTAMP:20260421T145251
CREATED:20250829T210231Z
LAST-MODIFIED:20250829T210231Z
UID:529-1766307600-1766318400@wordpress.petoskeysfxschool.org
SUMMARY:Pancake Breakfast
DESCRIPTION:
URL:http://wordpress.petoskeysfxschool.org/event/pancake-breakfast-5/
END:VEVENT
BEGIN:VEVENT
DTSTART;TZID=America/Detroit:20251211T183000
DTEND;TZID=America/Detroit:20251211T200000
DTSTAMP:20260421T145251
CREATED:20250811T232500Z
LAST-MODIFIED:20250811T232500Z
UID:476-1765477800-1765483200@wordpress.petoskeysfxschool.org
SUMMARY:Christmas Concert
DESCRIPTION:
URL:http://wordpress.petoskeysfxschool.org/event/christmas-concert/
END:VEVENT
BEGIN:VEVENT
DTSTART;TZID=America/Detroit:20251207T110000
DTEND;TZID=America/Detroit:20251207T110000
DTSTAMP:20260421T145251
CREATED:20250829T210554Z
LAST-MODIFIED:20250829T210554Z
UID:539-1765105200-1765105200@wordpress.petoskeysfxschool.org
SUMMARY:Early Bird Raffle Ticket Drawing
DESCRIPTION:
URL:http://wordpress.petoskeysfxschool.org/event/early-bird-raffle-ticket-drawing/
END:VEVENT
BEGIN:VEVENT
DTSTART;VALUE=DATE:20251126
DTEND;VALUE=DATE:20251129
DTSTAMP:20260421T145251
CREATED:20250811T232404Z
LAST-MODIFIED:20250811T232404Z
UID:474-1764115200-1764374399@wordpress.petoskeysfxschool.org
SUMMARY:No School--Thanksgiving Break
DESCRIPTION:
URL:http://wordpress.petoskeysfxschool.org/event/no-school-thanksgiving-break/
END:VEVENT
BEGIN:VEVENT
DTSTART;TZID=America/Detroit:20251116T090000
DTEND;TZID=America/Detroit:20251116T120000
DTSTAMP:20260421T145251
CREATED:20250829T210108Z
LAST-MODIFIED:20250829T210108Z
UID:525-1763283600-1763294400@wordpress.petoskeysfxschool.org
SUMMARY:Pancake Breakfast
DESCRIPTION:
URL:http://wordpress.petoskeysfxschool.org/event/pancake-breakfast-3/
END:VEVENT
BEGIN:VEVENT
DTSTART;TZID=America/Detroit:20251114T114000
DTEND;TZID=America/Detroit:20251114T150500
DTSTAMP:20260421T145251
CREATED:20250811T232330Z
LAST-MODIFIED:20250811T232330Z
UID:472-1763120400-1763132700@wordpress.petoskeysfxschool.org
SUMMARY:P.D. for Staff
DESCRIPTION:
URL:http://wordpress.petoskeysfxschool.org/event/p-d-for-staff-3/
END:VEVENT
BEGIN:VEVENT
DTSTART;TZID=America/Detroit:20251114T075500
DTEND;TZID=America/Detroit:20251114T114000
DTSTAMP:20260421T145251
CREATED:20250811T232249Z
LAST-MODIFIED:20250811T232249Z
UID:470-1763106900-1763120400@wordpress.petoskeysfxschool.org
SUMMARY:1/2 Day of School for Students
DESCRIPTION:
URL:http://wordpress.petoskeysfxschool.org/event/1-2-day-of-school-for-students-3/
END:VEVENT
BEGIN:VEVENT
DTSTART;VALUE=DATE:20251105
DTEND;VALUE=DATE:20251106
DTSTAMP:20260421T145251
CREATED:20250811T232200Z
LAST-MODIFIED:20250811T232200Z
UID:468-1762300800-1762387199@wordpress.petoskeysfxschool.org
SUMMARY:End of First Quarter
DESCRIPTION:
URL:http://wordpress.petoskeysfxschool.org/event/end-of-first-quarter/
END:VEVENT
BEGIN:VEVENT
DTSTART;VALUE=DATE:20251105
DTEND;VALUE=DATE:20251106
DTSTAMP:20260421T145251
CREATED:20250811T232141Z
LAST-MODIFIED:20250811T232141Z
UID:466-1762300800-1762387199@wordpress.petoskeysfxschool.org
SUMMARY:No School for Students/P.D. for Staff
DESCRIPTION:
URL:http://wordpress.petoskeysfxschool.org/event/no-school-for-students-p-d-for-staff/
END:VEVENT
BEGIN:VEVENT
DTSTART;TZID=America/Detroit:20251031T114000
DTEND;TZID=America/Detroit:20251031T150500
DTSTAMP:20260421T145251
CREATED:20250811T232101Z
LAST-MODIFIED:20250811T232101Z
UID:464-1761910800-1761923100@wordpress.petoskeysfxschool.org
SUMMARY:P.D. for Staff
DESCRIPTION:
URL:http://wordpress.petoskeysfxschool.org/event/p-d-for-staff-2/
END:VEVENT
BEGIN:VEVENT
DTSTART;TZID=America/Detroit:20251031T075500
DTEND;TZID=America/Detroit:20251031T114000
DTSTAMP:20260421T145251
CREATED:20250811T232020Z
LAST-MODIFIED:20250811T232020Z
UID:462-1761897300-1761910800@wordpress.petoskeysfxschool.org
SUMMARY:1/2 Day of School for Students
DESCRIPTION:
URL:http://wordpress.petoskeysfxschool.org/event/1-2-day-of-school-for-students-2/
END:VEVENT
BEGIN:VEVENT
DTSTART;TZID=America/Detroit:20251019T090000
DTEND;TZID=America/Detroit:20251019T120000
DTSTAMP:20260421T145251
CREATED:20250829T210024Z
LAST-MODIFIED:20250829T210024Z
UID:523-1760864400-1760875200@wordpress.petoskeysfxschool.org
SUMMARY:Pancake Breakfast
DESCRIPTION:
URL:http://wordpress.petoskeysfxschool.org/event/pancake-breakfast-2/
END:VEVENT
BEGIN:VEVENT
DTSTART;TZID=America/Detroit:20251017T114000
DTEND;TZID=America/Detroit:20251017T150500
DTSTAMP:20260421T145251
CREATED:20250811T231944Z
LAST-MODIFIED:20250811T231944Z
UID:460-1760701200-1760713500@wordpress.petoskeysfxschool.org
SUMMARY:P.D. for Staff
DESCRIPTION:
URL:http://wordpress.petoskeysfxschool.org/event/p-d-for-staff/
END:VEVENT
BEGIN:VEVENT
DTSTART;TZID=America/Detroit:20251017T075500
DTEND;TZID=America/Detroit:20251017T114000
DTSTAMP:20260421T145251
CREATED:20250811T231809Z
LAST-MODIFIED:20250811T231809Z
UID:458-1760687700-1760701200@wordpress.petoskeysfxschool.org
SUMMARY:1/2 Day of School For Students
DESCRIPTION:
URL:http://wordpress.petoskeysfxschool.org/event/1-2-day-of-school-for-students/
END:VEVENT
BEGIN:VEVENT
DTSTART;TZID=America/Detroit:20251016T160000
DTEND;TZID=America/Detroit:20251016T200000
DTSTAMP:20260421T145251
CREATED:20250811T231715Z
LAST-MODIFIED:20250811T231715Z
UID:456-1760630400-1760644800@wordpress.petoskeysfxschool.org
SUMMARY:Parent-Teacher Conferences
DESCRIPTION:
URL:http://wordpress.petoskeysfxschool.org/event/parent-teacher-conferences/
END:VEVENT
BEGIN:VEVENT
DTSTART;TZID=America/Detroit:20251009T080000
DTEND;TZID=America/Detroit:20251010T150000
DTSTAMP:20260421T145251
CREATED:20250811T231419Z
LAST-MODIFIED:20250811T231419Z
UID:454-1759996800-1760108400@wordpress.petoskeysfxschool.org
SUMMARY:Middle School Camp Daggett Trip
DESCRIPTION:
URL:http://wordpress.petoskeysfxschool.org/event/middle-school-camp-daggett-trip/
END:VEVENT
BEGIN:VEVENT
DTSTART;TZID=America/Detroit:20250928T110000
DTEND;TZID=America/Detroit:20250928T110000
DTSTAMP:20260421T145251
CREATED:20250829T204809Z
LAST-MODIFIED:20250829T204809Z
UID:520-1759057200-1759057200@wordpress.petoskeysfxschool.org
SUMMARY:Early Bird Raffle Drawing
DESCRIPTION:
URL:http://wordpress.petoskeysfxschool.org/event/early-bird-raffle-drawing/
END:VEVENT
BEGIN:VEVENT
DTSTART;TZID=America/Detroit:20250928T090000
DTEND;TZID=America/Detroit:20250928T120000
DTSTAMP:20260421T145251
CREATED:20250829T204649Z
LAST-MODIFIED:20250829T204649Z
UID:518-1759050000-1759060800@wordpress.petoskeysfxschool.org
SUMMARY:Pancake Breakfast
DESCRIPTION:
URL:http://wordpress.petoskeysfxschool.org/event/pancake-breakfast/
END:VEVENT
END:VCALENDAR