BEGIN:VCALENDAR
VERSION:2.0
PRODID:-//St. Francis Xavier School - ECPv6.15.20//NONSGML v1.0//EN
CALSCALE:GREGORIAN
METHOD:PUBLISH
X-ORIGINAL-URL:http://wordpress.petoskeysfxschool.org
X-WR-CALDESC:Events for St. Francis Xavier School
REFRESH-INTERVAL;VALUE=DURATION:PT1H
X-Robots-Tag:noindex
X-PUBLISHED-TTL:PT1H
BEGIN:VTIMEZONE
TZID:America/Detroit
BEGIN:DAYLIGHT
TZOFFSETFROM:-0500
TZOFFSETTO:-0400
TZNAME:EDT
DTSTART:20240310T070000
END:DAYLIGHT
BEGIN:STANDARD
TZOFFSETFROM:-0400
TZOFFSETTO:-0500
TZNAME:EST
DTSTART:20241103T060000
END:STANDARD
BEGIN:DAYLIGHT
TZOFFSETFROM:-0500
TZOFFSETTO:-0400
TZNAME:EDT
DTSTART:20250309T070000
END:DAYLIGHT
BEGIN:STANDARD
TZOFFSETFROM:-0400
TZOFFSETTO:-0500
TZNAME:EST
DTSTART:20251102T060000
END:STANDARD
BEGIN:DAYLIGHT
TZOFFSETFROM:-0500
TZOFFSETTO:-0400
TZNAME:EDT
DTSTART:20260308T070000
END:DAYLIGHT
BEGIN:STANDARD
TZOFFSETFROM:-0400
TZOFFSETTO:-0500
TZNAME:EST
DTSTART:20261101T060000
END:STANDARD
END:VTIMEZONE
BEGIN:VEVENT
DTSTART;VALUE=DATE:20250602
DTEND;VALUE=DATE:20250603
DTSTAMP:20260422T005542
CREATED:20250522T213149Z
LAST-MODIFIED:20250522T213149Z
UID:414-1748822400-1748908799@wordpress.petoskeysfxschool.org
SUMMARY:4th Grade One Room Schoolhouse
DESCRIPTION:
URL:http://wordpress.petoskeysfxschool.org/event/4th-grade-one-room-schoolhouse/
END:VEVENT
BEGIN:VEVENT
DTSTART;VALUE=DATE:20250605
DTEND;VALUE=DATE:20250606
DTSTAMP:20260422T005542
CREATED:20250522T213216Z
LAST-MODIFIED:20250522T213216Z
UID:416-1749081600-1749167999@wordpress.petoskeysfxschool.org
SUMMARY:5th Grade Revolutionary Days
DESCRIPTION:
URL:http://wordpress.petoskeysfxschool.org/event/5th-grade-revolutionary-days/
END:VEVENT
BEGIN:VEVENT
DTSTART;VALUE=DATE:20250606
DTEND;VALUE=DATE:20250607
DTSTAMP:20260422T005542
CREATED:20250522T213247Z
LAST-MODIFIED:20250522T213247Z
UID:418-1749168000-1749254399@wordpress.petoskeysfxschool.org
SUMMARY:Downtown Petoskey Flower Planting
DESCRIPTION:
URL:http://wordpress.petoskeysfxschool.org/event/downtown-petoskey-flower-planting/
END:VEVENT
BEGIN:VEVENT
DTSTART;TZID=America/Detroit:20250610T180000
DTEND;TZID=America/Detroit:20250610T203000
DTSTAMP:20260422T005542
CREATED:20250522T213321Z
LAST-MODIFIED:20250522T213321Z
UID:420-1749578400-1749587400@wordpress.petoskeysfxschool.org
SUMMARY:8th Grade Graduation Mass
DESCRIPTION:
URL:http://wordpress.petoskeysfxschool.org/event/8th-grade-graduation-mass/
END:VEVENT
BEGIN:VEVENT
DTSTART;VALUE=DATE:20250611
DTEND;VALUE=DATE:20250612
DTSTAMP:20260422T005542
CREATED:20250510T145905Z
LAST-MODIFIED:20250510T145905Z
UID:287-1749600000-1749686399@wordpress.petoskeysfxschool.org
SUMMARY:Last Day of School – 1⁄2 Day of School Dismissal at 11:40am P.D. for Staff
DESCRIPTION:Last Day of School – 1⁄2 Day of School\nDismissal at 11:40am\nP.D. for Staff\nEnd of Fourth Quarter/Second Semester
URL:http://wordpress.petoskeysfxschool.org/event/last-day-of-school-1%e2%81%842-day-of-school-dismissal-at-1140am-p-d-for-staff/
END:VEVENT
BEGIN:VEVENT
DTSTART;VALUE=DATE:20250612
DTEND;VALUE=DATE:20250613
DTSTAMP:20260422T005542
CREATED:20250510T145938Z
LAST-MODIFIED:20250510T145938Z
UID:289-1749686400-1749772799@wordpress.petoskeysfxschool.org
SUMMARY:Staff Records Day
DESCRIPTION:Staff Records Day
URL:http://wordpress.petoskeysfxschool.org/event/staff-records-day/
END:VEVENT
END:VCALENDAR