BEGIN:VCALENDAR
VERSION:2.0
PRODID:-//St. Francis Xavier School - ECPv6.15.20//NONSGML v1.0//EN
CALSCALE:GREGORIAN
METHOD:PUBLISH
X-WR-CALNAME:St. Francis Xavier School
X-ORIGINAL-URL:http://wordpress.petoskeysfxschool.org
X-WR-CALDESC:Events for St. Francis Xavier School
REFRESH-INTERVAL;VALUE=DURATION:PT1H
X-Robots-Tag:noindex
X-PUBLISHED-TTL:PT1H
BEGIN:VTIMEZONE
TZID:America/Detroit
BEGIN:DAYLIGHT
TZOFFSETFROM:-0500
TZOFFSETTO:-0400
TZNAME:EDT
DTSTART:20240310T070000
END:DAYLIGHT
BEGIN:STANDARD
TZOFFSETFROM:-0400
TZOFFSETTO:-0500
TZNAME:EST
DTSTART:20241103T060000
END:STANDARD
BEGIN:DAYLIGHT
TZOFFSETFROM:-0500
TZOFFSETTO:-0400
TZNAME:EDT
DTSTART:20250309T070000
END:DAYLIGHT
BEGIN:STANDARD
TZOFFSETFROM:-0400
TZOFFSETTO:-0500
TZNAME:EST
DTSTART:20251102T060000
END:STANDARD
BEGIN:DAYLIGHT
TZOFFSETFROM:-0500
TZOFFSETTO:-0400
TZNAME:EDT
DTSTART:20260308T070000
END:DAYLIGHT
BEGIN:STANDARD
TZOFFSETFROM:-0400
TZOFFSETTO:-0500
TZNAME:EST
DTSTART:20261101T060000
END:STANDARD
END:VTIMEZONE
BEGIN:VEVENT
DTSTART;VALUE=DATE:20250805
DTEND;VALUE=DATE:20250806
DTSTAMP:20260421T215906
CREATED:20250522T213703Z
LAST-MODIFIED:20250522T213703Z
UID:426-1754352000-1754438399@wordpress.petoskeysfxschool.org
SUMMARY:Diocesan Teacher Convocation-ALL Staff in Gaylord
DESCRIPTION:
URL:http://wordpress.petoskeysfxschool.org/event/diocesan-teacher-convocation-all-staff-in-gaylord/
END:VEVENT
BEGIN:VEVENT
DTSTART;VALUE=DATE:20250820
DTEND;VALUE=DATE:20250821
DTSTAMP:20260421T215906
CREATED:20250811T231215Z
LAST-MODIFIED:20250811T231215Z
UID:450-1755648000-1755734399@wordpress.petoskeysfxschool.org
SUMMARY:Staff Professional Development Day
DESCRIPTION:
URL:http://wordpress.petoskeysfxschool.org/event/staff-professional-development-day/
END:VEVENT
BEGIN:VEVENT
DTSTART;TZID=America/Detroit:20250824T170000
DTEND;TZID=America/Detroit:20250824T180000
DTSTAMP:20260421T215906
CREATED:20250522T213428Z
LAST-MODIFIED:20250522T213428Z
UID:422-1756054800-1756058400@wordpress.petoskeysfxschool.org
SUMMARY:Open House for 2025-2026 School Year
DESCRIPTION:
URL:http://wordpress.petoskeysfxschool.org/event/open-house-for-2025-2026-school-year/
END:VEVENT
END:VCALENDAR